BEGIN:VCALENDAR
PRODID:Partyamt DarmstadtVERSION:2.0
X-WR-CALNAME:Partyamt DarmstadtUID:123300@partyamt.deX-WR-TIMEZONE:Europe/Berlin
CALSCALE:GREGORIAN
METHOD:PUBLISH
BEGIN:VEVENT
SUMMARY:Multivisions-Show: Island ? Naturparadies im ...
DTSTART:20160121T200000
DTEND;VALUE=DATE:20160121T220000
LOCATION:Bessunger Knabenschule (Halle)
DESCRIPTION:www.partyamt.de/index.php?action=single&id=123300
END:VEVENT
END:VCALENDAR