BEGIN:VCALENDAR
PRODID:Partyamt DarmstadtVERSION:2.0
X-WR-CALNAME:Partyamt DarmstadtUID:125030@partyamt.deX-WR-TIMEZONE:Europe/Berlin
CALSCALE:GREGORIAN
METHOD:PUBLISH
BEGIN:VEVENT
SUMMARY:Neunzigerdisko mit DJ D-Zero
DTSTART:20160101T220000
DTEND;VALUE=DATE:20160102T000000
LOCATION:Goldene Krone (Disco)
DESCRIPTION:www.partyamt.de/index.php?action=single&id=125030
END:VEVENT
END:VCALENDAR