BEGIN:VCALENDAR
PRODID:Partyamt DarmstadtVERSION:2.0
X-WR-CALNAME:Partyamt DarmstadtUID:125032@partyamt.deX-WR-TIMEZONE:Europe/Berlin
CALSCALE:GREGORIAN
METHOD:PUBLISH
BEGIN:VEVENT
SUMMARY:Nostalgie: Omas Lieblingsplatten mit Johnny Ost
DTSTART:20160101T235900
DTEND;VALUE=DATE:20160102T015900
LOCATION:Goldene Krone (Rockybar)
DESCRIPTION:www.partyamt.de/index.php?action=single&id=125032
END:VEVENT
END:VCALENDAR