BEGIN:VCALENDAR
PRODID:Partyamt DarmstadtVERSION:2.0
X-WR-CALNAME:Partyamt DarmstadtUID:125642@partyamt.deX-WR-TIMEZONE:Europe/Berlin
CALSCALE:GREGORIAN
METHOD:PUBLISH
BEGIN:VEVENT
SUMMARY:Rammstein Party mit DJ Doom
DTSTART:20160101T210000
DTEND;VALUE=DATE:20160101T230000
LOCATION:Club Biga (Floor 1), Dieburg
DESCRIPTION:www.partyamt.de/index.php?action=single&id=125642
END:VEVENT
END:VCALENDAR