BEGIN:VCALENDAR
PRODID:Partyamt DarmstadtVERSION:2.0
X-WR-CALNAME:Partyamt DarmstadtUID:125643@partyamt.deX-WR-TIMEZONE:Europe/Berlin
CALSCALE:GREGORIAN
METHOD:PUBLISH
BEGIN:VEVENT
SUMMARY:VNV Nation - Suicide Commando
DTSTART:20160101T210000
DTEND;VALUE=DATE:20160101T230000
LOCATION:Club Biga (Floor 2), Dieburg
DESCRIPTION:www.partyamt.de/index.php?action=single&id=125643
END:VEVENT
END:VCALENDAR