BEGIN:VCALENDAR
PRODID:Partyamt DarmstadtVERSION:2.0
X-WR-CALNAME:Partyamt DarmstadtUID:125673@partyamt.deX-WR-TIMEZONE:Europe/Berlin
CALSCALE:GREGORIAN
METHOD:PUBLISH
BEGIN:VEVENT
SUMMARY:Happy New Year Rock´n´Pop
DTSTART:20160101T210000
DTEND;VALUE=DATE:20160101T230000
LOCATION:Steinbruch-Theater, MÃ¼hltal
DESCRIPTION:www.partyamt.de/index.php?action=single&id=125673
END:VEVENT
END:VCALENDAR