BEGIN:VCALENDAR
PRODID:Partyamt DarmstadtVERSION:2.0
X-WR-CALNAME:Partyamt DarmstadtUID:125762@partyamt.deX-WR-TIMEZONE:Europe/Berlin
CALSCALE:GREGORIAN
METHOD:PUBLISH
BEGIN:VEVENT
SUMMARY:Invers-Disko mit DJ Schrottverticker
DTSTART:20160101T233200
DTEND;VALUE=DATE:20160102T013200
LOCATION:Mullbinde
DESCRIPTION:www.partyamt.de/index.php?action=single&id=125762
END:VEVENT
END:VCALENDAR