BEGIN:VCALENDAR
PRODID:Partyamt DarmstadtVERSION:2.0
X-WR-CALNAME:Partyamt DarmstadtUID:145864@partyamt.deX-WR-TIMEZONE:Europe/Berlin
CALSCALE:GREGORIAN
METHOD:PUBLISH
BEGIN:VEVENT
SUMMARY:Salsa Afterwork mit DJ Olli
DTSTART:20190305T190000
DTEND;VALUE=DATE:20190305T210000
LOCATION:UpÃ©ro
DESCRIPTION:www.partyamt.de/index.php?action=single&id=145864
END:VEVENT
END:VCALENDAR