BEGIN:VCALENDAR
PRODID:Partyamt DarmstadtVERSION:2.0
X-WR-CALNAME:Partyamt DarmstadtUID:146076@partyamt.deX-WR-TIMEZONE:Europe/Berlin
CALSCALE:GREGORIAN
METHOD:PUBLISH
BEGIN:VEVENT
SUMMARY:Soundkitchen
DTSTART:20190305T193000
DTEND;VALUE=DATE:20190305T213000
LOCATION:Staatstheater (Foyer)
DESCRIPTION:www.partyamt.de/index.php?action=single&id=146076
END:VEVENT
END:VCALENDAR