BEGIN:VCALENDAR
PRODID:Partyamt DarmstadtVERSION:2.0
X-WR-CALNAME:Partyamt DarmstadtUID:146095@partyamt.deX-WR-TIMEZONE:Europe/Berlin
CALSCALE:GREGORIAN
METHOD:PUBLISH
BEGIN:VEVENT
SUMMARY:Tuesday Latin Dance Party
DTSTART:20190305T203000
DTEND;VALUE=DATE:20190305T223000
LOCATION:Guantanamera
DESCRIPTION:www.partyamt.de/index.php?action=single&id=146095
END:VEVENT
END:VCALENDAR