BEGIN:VCALENDAR
PRODID:Partyamt DarmstadtVERSION:2.0
X-WR-CALNAME:Partyamt DarmstadtUID:167778@partyamt.deX-WR-TIMEZONE:Europe/Berlin
CALSCALE:GREGORIAN
METHOD:PUBLISH
BEGIN:VEVENT
SUMMARY:73. Darmstädter Heinerfest
DTSTART;VALUE=DATE:20230629
DTEND;VALUE=DATE:20230629T020000
LOCATION:Darmstadt (Innenstadt)
DESCRIPTION:www.partyamt.de/index.php?action=single&id=167778
END:VEVENT
END:VCALENDAR