BEGIN:VCALENDAR
PRODID:Partyamt DarmstadtVERSION:2.0
X-WR-CALNAME:Partyamt DarmstadtUID:167963@partyamt.deX-WR-TIMEZONE:Europe/Berlin
CALSCALE:GREGORIAN
METHOD:PUBLISH
BEGIN:VEVENT
SUMMARY:Kabarett: Nils Heinrich - Junger gebrauchter
DTSTART:20230609T203000
DTEND;VALUE=DATE:20230609T223000
LOCATION:HalbNeun Theater
DESCRIPTION:www.partyamt.de/index.php?action=single&id=167963
END:VEVENT
END:VCALENDAR