BEGIN:VCALENDAR
PRODID:Partyamt DarmstadtVERSION:2.0
X-WR-CALNAME:Partyamt DarmstadtUID:168506@partyamt.deX-WR-TIMEZONE:Europe/Berlin
CALSCALE:GREGORIAN
METHOD:PUBLISH
BEGIN:VEVENT
SUMMARY:Konzert: Silbermond
DTSTART:20230609T200000
DTEND;VALUE=DATE:20230609T220000
LOCATION:Hessentag Pfungstadt
DESCRIPTION:www.partyamt.de/index.php?action=single&id=168506
END:VEVENT
END:VCALENDAR