BEGIN:VCALENDAR
PRODID:Partyamt DarmstadtVERSION:2.0
X-WR-CALNAME:Partyamt DarmstadtUID:169081@partyamt.deX-WR-TIMEZONE:Europe/Berlin
CALSCALE:GREGORIAN
METHOD:PUBLISH
BEGIN:VEVENT
SUMMARY:Lesebühne: Florian Aigner - Im Niemandsland
DTSTART:20230405T193000
DTEND;VALUE=DATE:20230405T213000
LOCATION:Literaturhaus
DESCRIPTION:www.partyamt.de/index.php?action=single&id=169081
END:VEVENT
END:VCALENDAR