BEGIN:VCALENDAR
PRODID:Partyamt DarmstadtVERSION:2.0
X-WR-CALNAME:Partyamt DarmstadtUID:169116@partyamt.deX-WR-TIMEZONE:Europe/Berlin
CALSCALE:GREGORIAN
METHOD:PUBLISH
BEGIN:VEVENT
SUMMARY:Live: Concrete Jungle (Reggae) + DJ Marko
DTSTART:20230630T190000
DTEND;VALUE=DATE:20230630T210000
LOCATION:Stadtkirchplatz
DESCRIPTION:www.partyamt.de/index.php?action=single&id=169116
END:VEVENT
END:VCALENDAR