BEGIN:VCALENDAR
PRODID:Partyamt DarmstadtVERSION:2.0
X-WR-CALNAME:Partyamt DarmstadtUID:169312@partyamt.deX-WR-TIMEZONE:Europe/Berlin
CALSCALE:GREGORIAN
METHOD:PUBLISH
BEGIN:VEVENT
SUMMARY:Bessunger Jam Session
DTSTART:20230630T203000
DTEND;VALUE=DATE:20230630T223000
LOCATION:Jazzinstitut (Keller)
DESCRIPTION:www.partyamt.de/index.php?action=single&id=169312
END:VEVENT
END:VCALENDAR