BEGIN:VCALENDAR
PRODID:Partyamt DarmstadtVERSION:2.0
X-WR-CALNAME:Partyamt DarmstadtUID:169599@partyamt.deX-WR-TIMEZONE:Europe/Berlin
CALSCALE:GREGORIAN
METHOD:PUBLISH
BEGIN:VEVENT
SUMMARY:14. Forum Strassentheater beim Heinerfest
DTSTART:20230630T190000
DTEND;VALUE=DATE:20230630T210000
LOCATION:Darmstadtium (Vorplatz)
DESCRIPTION:www.partyamt.de/index.php?action=single&id=169599
END:VEVENT
END:VCALENDAR