BEGIN:VCALENDAR
PRODID:Partyamt DarmstadtVERSION:2.0
X-WR-CALNAME:Partyamt DarmstadtUID:169613@partyamt.deX-WR-TIMEZONE:Europe/Berlin
CALSCALE:GREGORIAN
METHOD:PUBLISH
BEGIN:VEVENT
SUMMARY:Gothic Club 2000 mit DJ Fire
DTSTART:20230609T220000
DTEND;VALUE=DATE:20230610T000000
LOCATION:Steinbruch-Theater, MÃ¼hltal
DESCRIPTION:www.partyamt.de/index.php?action=single&id=169613
END:VEVENT
END:VCALENDAR