BEGIN:VCALENDAR
PRODID:Partyamt DarmstadtVERSION:2.0
X-WR-CALNAME:Partyamt DarmstadtUID:169618@partyamt.deX-WR-TIMEZONE:Europe/Berlin
CALSCALE:GREGORIAN
METHOD:PUBLISH
BEGIN:VEVENT
SUMMARY:Total 80s mit DJ Fire
DTSTART:20230630T220000
DTEND;VALUE=DATE:20230701T000000
LOCATION:Steinbruch-Theater, MÃ¼hltal
DESCRIPTION:www.partyamt.de/index.php?action=single&id=169618
END:VEVENT
END:VCALENDAR