BEGIN:VCALENDAR
PRODID:Partyamt DarmstadtVERSION:2.0
X-WR-CALNAME:Partyamt DarmstadtUID:169631@partyamt.deX-WR-TIMEZONE:Europe/Berlin
CALSCALE:GREGORIAN
METHOD:PUBLISH
BEGIN:VEVENT
SUMMARY:Unicorndisco
DTSTART:20230630T230000
DTEND;VALUE=DATE:20230701T010000
LOCATION:Schlosskeller
DESCRIPTION:www.partyamt.de/index.php?action=single&id=169631
END:VEVENT
END:VCALENDAR