BEGIN:VCALENDAR
PRODID:Partyamt DarmstadtVERSION:2.0
X-WR-CALNAME:Partyamt DarmstadtUID:169679@partyamt.deX-WR-TIMEZONE:Europe/Berlin
CALSCALE:GREGORIAN
METHOD:PUBLISH
BEGIN:VEVENT
SUMMARY:Kommerzdisko - Aktuelles und Altbewährtes
DTSTART:20230609T220000
DTEND;VALUE=DATE:20230610T000000
LOCATION:Goldene Krone (Disco)
DESCRIPTION:www.partyamt.de/index.php?action=single&id=169679
END:VEVENT
END:VCALENDAR