BEGIN:VCALENDAR
PRODID:Partyamt DarmstadtVERSION:2.0
X-WR-CALNAME:Partyamt DarmstadtUID:169752@partyamt.deX-WR-TIMEZONE:Europe/Berlin
CALSCALE:GREGORIAN
METHOD:PUBLISH
BEGIN:VEVENT
SUMMARY:Live: Mario Steffaen
DTSTART:20230609T200000
DTEND;VALUE=DATE:20230609T220000
LOCATION:TanzcafÃ© Papillon
DESCRIPTION:www.partyamt.de/index.php?action=single&id=169752
END:VEVENT
END:VCALENDAR