BEGIN:VCALENDAR
PRODID:Partyamt DarmstadtVERSION:2.0
X-WR-CALNAME:Partyamt DarmstadtUID:169770@partyamt.deX-WR-TIMEZONE:Europe/Berlin
CALSCALE:GREGORIAN
METHOD:PUBLISH
BEGIN:VEVENT
SUMMARY:Two for One Doppeldecker
DTSTART:20230609T220000
DTEND;VALUE=DATE:20230610T000000
LOCATION:Musikpark A5
DESCRIPTION:www.partyamt.de/index.php?action=single&id=169770
END:VEVENT
END:VCALENDAR