BEGIN:VCALENDAR
PRODID:Partyamt DarmstadtVERSION:2.0
X-WR-CALNAME:Partyamt DarmstadtUID:169965@partyamt.deX-WR-TIMEZONE:Europe/Berlin
CALSCALE:GREGORIAN
METHOD:PUBLISH
BEGIN:VEVENT
SUMMARY:Disco Sour´s Summer Open
DTSTART:20230609T220000
DTEND;VALUE=DATE:20230610T000000
LOCATION:WeststadtcafÃ©
DESCRIPTION:www.partyamt.de/index.php?action=single&id=169965
END:VEVENT
END:VCALENDAR