BEGIN:VCALENDAR
PRODID:Partyamt DarmstadtVERSION:2.0
X-WR-CALNAME:Partyamt DarmstadtUID:170227@partyamt.deX-WR-TIMEZONE:Europe/Berlin
CALSCALE:GREGORIAN
METHOD:PUBLISH
BEGIN:VEVENT
SUMMARY:Ponyhof im Jugendstilbad
DTSTART:20230629T230000
DTEND;VALUE=DATE:20230630T010000
LOCATION:Jugendstilbad (Wiese)
DESCRIPTION:www.partyamt.de/index.php?action=single&id=170227
END:VEVENT
END:VCALENDAR