BEGIN:VCALENDAR
PRODID:Partyamt DarmstadtVERSION:2.0
X-WR-CALNAME:Partyamt DarmstadtUID:170337@partyamt.deX-WR-TIMEZONE:Europe/Berlin
CALSCALE:GREGORIAN
METHOD:PUBLISH
BEGIN:VEVENT
SUMMARY:La Lucha tanzt
DTSTART:20230630T230000
DTEND;VALUE=DATE:20230701T010000
LOCATION:La Lucha
DESCRIPTION:www.partyamt.de/index.php?action=single&id=170337
END:VEVENT
END:VCALENDAR