BEGIN:VCALENDAR
PRODID:Partyamt DarmstadtVERSION:2.0
X-WR-CALNAME:Partyamt DarmstadtUID:170509@partyamt.deX-WR-TIMEZONE:Europe/Berlin
CALSCALE:GREGORIAN
METHOD:PUBLISH
BEGIN:VEVENT
SUMMARY:RSV Pumpe Sommerfest
DTSTART:20230730T150000
DTEND;VALUE=DATE:20230730T170000
LOCATION:Nieder-RamstÃ¤dter Str. 21
DESCRIPTION:www.partyamt.de/index.php?action=single&id=170509
END:VEVENT
END:VCALENDAR