BEGIN:VCALENDAR
PRODID:Partyamt DarmstadtVERSION:2.0
X-WR-CALNAME:Partyamt DarmstadtUID:172265@partyamt.deX-WR-TIMEZONE:Europe/Berlin
CALSCALE:GREGORIAN
METHOD:PUBLISH
BEGIN:VEVENT
SUMMARY:Kabarett: Peter Vollmer - Er darf machen, was ...
DTSTART:20240223T203000
DTEND;VALUE=DATE:20240223T223000
LOCATION:HalbNeun Theater
DESCRIPTION:www.partyamt.de/index.php?action=single&id=172265
END:VEVENT
END:VCALENDAR