BEGIN:VCALENDAR
PRODID:Partyamt DarmstadtVERSION:2.0
X-WR-CALNAME:Partyamt DarmstadtUID:172829@partyamt.deX-WR-TIMEZONE:Europe/Berlin
CALSCALE:GREGORIAN
METHOD:PUBLISH
BEGIN:VEVENT
SUMMARY:Zeitströme 2024 - Darmstadt New Music Days
DTSTART;VALUE=DATE:20240222
DTEND;VALUE=DATE:20240222T020000
LOCATION:Akademie fÃ¼r Tonkunst
DESCRIPTION:www.partyamt.de/index.php?action=single&id=172829
END:VEVENT
END:VCALENDAR