BEGIN:VCALENDAR
PRODID:Partyamt DarmstadtVERSION:2.0
X-WR-CALNAME:Partyamt DarmstadtUID:173840@partyamt.deX-WR-TIMEZONE:Europe/Berlin
CALSCALE:GREGORIAN
METHOD:PUBLISH
BEGIN:VEVENT
SUMMARY:Come to the Dance - R´n´B & World Pop
DTSTART:20240907T220000
DTEND;VALUE=DATE:20240908T000000
LOCATION:WeststadtcafÃ©
DESCRIPTION:www.partyamt.de/index.php?action=single&id=173840
END:VEVENT
END:VCALENDAR