BEGIN:VCALENDAR
PRODID:Partyamt DarmstadtVERSION:2.0
X-WR-CALNAME:Partyamt DarmstadtUID:173848@partyamt.deX-WR-TIMEZONE:Europe/Berlin
CALSCALE:GREGORIAN
METHOD:PUBLISH
BEGIN:VEVENT
SUMMARY:Frühlingserwachen - Eröffnung der Waldkunst Saison
DTSTART:20240501T140000
DTEND;VALUE=DATE:20240501T160000
LOCATION:Intl. Waldkunstpfad
DESCRIPTION:www.partyamt.de/index.php?action=single&id=173848
END:VEVENT
END:VCALENDAR