BEGIN:VCALENDAR
PRODID:Partyamt DarmstadtVERSION:2.0
X-WR-CALNAME:Partyamt DarmstadtUID:174438@partyamt.deX-WR-TIMEZONE:Europe/Berlin
CALSCALE:GREGORIAN
METHOD:PUBLISH
BEGIN:VEVENT
SUMMARY:Offene Knabenschule - Was geht hier vor?
DTSTART:20240501T140000
DTEND;VALUE=DATE:20240501T160000
LOCATION:Bessunger Knabenschule
DESCRIPTION:www.partyamt.de/index.php?action=single&id=174438
END:VEVENT
END:VCALENDAR