BEGIN:VCALENDAR
PRODID:Partyamt DarmstadtVERSION:2.0
X-WR-CALNAME:Partyamt DarmstadtUID:176118@partyamt.deX-WR-TIMEZONE:Europe/Berlin
CALSCALE:GREGORIAN
METHOD:PUBLISH
BEGIN:VEVENT
SUMMARY:Convoy Exceptionell - Doktor Spazulini
DTSTART:20240704T200000
DTEND;VALUE=DATE:20240704T220000
LOCATION:Kulturwiese am Ida-Seele-Weg
DESCRIPTION:www.partyamt.de/index.php?action=single&id=176118
END:VEVENT
END:VCALENDAR