BEGIN:VCALENDAR
PRODID:Partyamt DarmstadtVERSION:2.0
X-WR-CALNAME:Partyamt DarmstadtUID:176233@partyamt.deX-WR-TIMEZONE:Europe/Berlin
CALSCALE:GREGORIAN
METHOD:PUBLISH
BEGIN:VEVENT
SUMMARY:Vortrag: Heiliger Hain in geschmackvollen Anlagen
DTSTART:20240605T180000
DTEND;VALUE=DATE:20240605T200000
LOCATION:Hessisches Staatsarchiv
DESCRIPTION:www.partyamt.de/index.php?action=single&id=176233
END:VEVENT
END:VCALENDAR