BEGIN:VCALENDAR
PRODID:Partyamt DarmstadtVERSION:2.0
X-WR-CALNAME:Partyamt DarmstadtUID:176290@partyamt.deX-WR-TIMEZONE:Europe/Berlin
CALSCALE:GREGORIAN
METHOD:PUBLISH
BEGIN:VEVENT
SUMMARY:Int. Kranichsteiner Stadtteilfest - Bunte Wiese
DTSTART:20240615T140000
DTEND;VALUE=DATE:20240615T160000
LOCATION:Brentanowiese, Bartningstrasse
DESCRIPTION:www.partyamt.de/index.php?action=single&id=176290
END:VEVENT
END:VCALENDAR