BEGIN:VCALENDAR
PRODID:Partyamt DarmstadtVERSION:2.0
X-WR-CALNAME:Partyamt DarmstadtUID:176311@partyamt.deX-WR-TIMEZONE:Europe/Berlin
CALSCALE:GREGORIAN
METHOD:PUBLISH
BEGIN:VEVENT
SUMMARY:Zeitzeugengespräch - Versöhnung mit dem Bösen
DTSTART:20240605T190000
DTEND;VALUE=DATE:20240605T210000
LOCATION:Justus-Liebig-Haus
DESCRIPTION:www.partyamt.de/index.php?action=single&id=176311
END:VEVENT
END:VCALENDAR