BEGIN:VCALENDAR
PRODID:Partyamt DarmstadtVERSION:2.0
X-WR-CALNAME:Partyamt DarmstadtUID:176602@partyamt.deX-WR-TIMEZONE:Europe/Berlin
CALSCALE:GREGORIAN
METHOD:PUBLISH
BEGIN:VEVENT
SUMMARY:Theater: Das Indische Tuch
DTSTART:20240907T200000
DTEND;VALUE=DATE:20240907T220000
LOCATION:Neue BÃ¼hne
DESCRIPTION:www.partyamt.de/index.php?action=single&id=176602
END:VEVENT
END:VCALENDAR