BEGIN:VCALENDAR
PRODID:Partyamt DarmstadtVERSION:2.0
X-WR-CALNAME:Partyamt DarmstadtUID:176775@partyamt.deX-WR-TIMEZONE:Europe/Berlin
CALSCALE:GREGORIAN
METHOD:PUBLISH
BEGIN:VEVENT
SUMMARY:Konzert: Pfund
DTSTART:20241025T200000
DTEND;VALUE=DATE:20241025T220000
LOCATION:Centralstation (Halle)
DESCRIPTION:www.partyamt.de/index.php?action=single&id=176775
END:VEVENT
END:VCALENDAR