BEGIN:VCALENDAR
PRODID:Partyamt DarmstadtVERSION:2.0
X-WR-CALNAME:Partyamt DarmstadtUID:177099@partyamt.deX-WR-TIMEZONE:Europe/Berlin
CALSCALE:GREGORIAN
METHOD:PUBLISH
BEGIN:VEVENT
SUMMARY:Live!Jazz: Arne Jansen-Anders Jormin-Uwe Steinmetz
DTSTART:20241201T193000
DTEND;VALUE=DATE:20241201T213000
LOCATION:Stadtkirche
DESCRIPTION:www.partyamt.de/index.php?action=single&id=177099
END:VEVENT
END:VCALENDAR