BEGIN:VCALENDAR
PRODID:Partyamt DarmstadtVERSION:2.0
X-WR-CALNAME:Partyamt DarmstadtUID:177787@partyamt.deX-WR-TIMEZONE:Europe/Berlin
CALSCALE:GREGORIAN
METHOD:PUBLISH
BEGIN:VEVENT
SUMMARY:Da Capo Varieté - No Limits
DTSTART;VALUE=DATE:20241121
DTEND;VALUE=DATE:20241121T020000
LOCATION:Karolinenplatz
DESCRIPTION:www.partyamt.de/index.php?action=single&id=177787
END:VEVENT
END:VCALENDAR