BEGIN:VCALENDAR
PRODID:Partyamt DarmstadtVERSION:2.0
X-WR-CALNAME:Partyamt DarmstadtUID:177861@partyamt.deX-WR-TIMEZONE:Europe/Berlin
CALSCALE:GREGORIAN
METHOD:PUBLISH
BEGIN:VEVENT
SUMMARY:Film: Zur Tradierung extremen Traumas
DTSTART:20241027T170000
DTEND;VALUE=DATE:20241027T190000
LOCATION:Deutsches Polen-Institut
DESCRIPTION:www.partyamt.de/index.php?action=single&id=177861
END:VEVENT
END:VCALENDAR