BEGIN:VCALENDAR
PRODID:Partyamt DarmstadtVERSION:2.0
X-WR-CALNAME:Partyamt DarmstadtUID:177907@partyamt.deX-WR-TIMEZONE:Europe/Berlin
CALSCALE:GREGORIAN
METHOD:PUBLISH
BEGIN:VEVENT
SUMMARY:ESN & FS18 Semester Kick-off - Studentenparty
DTSTART:20241025T220000
DTEND;VALUE=DATE:20241026T000000
LOCATION:Goldene Krone
DESCRIPTION:www.partyamt.de/index.php?action=single&id=177907
END:VEVENT
END:VCALENDAR