BEGIN:VCALENDAR
PRODID:Partyamt DarmstadtVERSION:2.0
X-WR-CALNAME:Partyamt DarmstadtUID:177927@partyamt.deX-WR-TIMEZONE:Europe/Berlin
CALSCALE:GREGORIAN
METHOD:PUBLISH
BEGIN:VEVENT
SUMMARY:Kreativmarkt
DTSTART:20241027T100000
DTEND;VALUE=DATE:20241027T120000
LOCATION:Bessunger Knabenschule (Halle)
DESCRIPTION:www.partyamt.de/index.php?action=single&id=177927
END:VEVENT
END:VCALENDAR