BEGIN:VCALENDAR
PRODID:Partyamt DarmstadtVERSION:2.0
X-WR-CALNAME:Partyamt DarmstadtUID:177975@partyamt.deX-WR-TIMEZONE:Europe/Berlin
CALSCALE:GREGORIAN
METHOD:PUBLISH
BEGIN:VEVENT
SUMMARY:Konzert: Alex im Westerland
DTSTART:20241025T200000
DTEND;VALUE=DATE:20241025T220000
LOCATION:An Sibin
DESCRIPTION:www.partyamt.de/index.php?action=single&id=177975
END:VEVENT
END:VCALENDAR