BEGIN:VCALENDAR
PRODID:Partyamt DarmstadtVERSION:2.0
X-WR-CALNAME:Partyamt DarmstadtUID:178109@partyamt.deX-WR-TIMEZONE:Europe/Berlin
CALSCALE:GREGORIAN
METHOD:PUBLISH
BEGIN:VEVENT
SUMMARY:64 Industries - One + Odin + Rainbow Curse (live)
DTSTART:20241025T200000
DTEND;VALUE=DATE:20241025T220000
LOCATION:Hoffart Theater
DESCRIPTION:www.partyamt.de/index.php?action=single&id=178109
END:VEVENT
END:VCALENDAR