BEGIN:VCALENDAR
PRODID:Partyamt DarmstadtVERSION:2.0
X-WR-CALNAME:Partyamt DarmstadtUID:178215@partyamt.deX-WR-TIMEZONE:Europe/Berlin
CALSCALE:GREGORIAN
METHOD:PUBLISH
BEGIN:VEVENT
SUMMARY:Fotobörse Darmstadt
DTSTART:20241201T100000
DTEND;VALUE=DATE:20241201T120000
LOCATION:Martin-Behaim-Schule
DESCRIPTION:www.partyamt.de/index.php?action=single&id=178215
END:VEVENT
END:VCALENDAR