BEGIN:VCALENDAR
PRODID:Partyamt DarmstadtVERSION:2.0
X-WR-CALNAME:Partyamt DarmstadtUID:178318@partyamt.deX-WR-TIMEZONE:Europe/Berlin
CALSCALE:GREGORIAN
METHOD:PUBLISH
BEGIN:VEVENT
SUMMARY:Chorkonzert - Tochter Zion
DTSTART:20241201T160000
DTEND;VALUE=DATE:20241201T180000
LOCATION:Innenstadtkirche St. Ludwig
DESCRIPTION:www.partyamt.de/index.php?action=single&id=178318
END:VEVENT
END:VCALENDAR