BEGIN:VCALENDAR
PRODID:Partyamt DarmstadtVERSION:2.0
X-WR-CALNAME:Partyamt DarmstadtUID:178322@partyamt.deX-WR-TIMEZONE:Europe/Berlin
CALSCALE:GREGORIAN
METHOD:PUBLISH
BEGIN:VEVENT
SUMMARY:Halloween Afterwork Party mit DJ Klangkönig
DTSTART:20241025T180000
DTEND;VALUE=DATE:20241025T200000
LOCATION:N17 Event Lounge, Griesheim
DESCRIPTION:www.partyamt.de/index.php?action=single&id=178322
END:VEVENT
END:VCALENDAR