BEGIN:VCALENDAR
PRODID:Partyamt DarmstadtVERSION:2.0
X-WR-CALNAME:Partyamt DarmstadtUID:178470@partyamt.deX-WR-TIMEZONE:Europe/Berlin
CALSCALE:GREGORIAN
METHOD:PUBLISH
BEGIN:VEVENT
SUMMARY:Filmkreis-Kino: King's Land (OmU)
DTSTART:20250305T203000
DTEND;VALUE=DATE:20250305T223000
LOCATION:CityDome Kinos (Rex-Kino)
DESCRIPTION:www.partyamt.de/index.php?action=single&id=178470
END:VEVENT
END:VCALENDAR