BEGIN:VCALENDAR
PRODID:Partyamt DarmstadtVERSION:2.0
X-WR-CALNAME:Partyamt DarmstadtUID:178533@partyamt.deX-WR-TIMEZONE:Europe/Berlin
CALSCALE:GREGORIAN
METHOD:PUBLISH
BEGIN:VEVENT
SUMMARY:Konzert: Animae - Eine Klavier und Violinen Show
DTSTART:20241201T200000
DTEND;VALUE=DATE:20241201T220000
LOCATION:Hoffart Theater
DESCRIPTION:www.partyamt.de/index.php?action=single&id=178533
END:VEVENT
END:VCALENDAR